BEGIN:VCALENDAR
VERSION:2.0
PRODID:-//PYVOBJECT//NONSGML Version 1//EN
BEGIN:VEVENT
UID:22083:4033
DTSTART:20160625T170000
DTEND:20160623T000000
DESCRIPTION:Ab 17:00 wird gegrillt!\nUm telefonische Reservierung wird gebe
 ten!\n0660/4209881\nTeilen erw&uuml\;nscht!
DTSTAMP:20260424T221337Z
SUMMARY:Grillerei@Stüberl
END:VEVENT
END:VCALENDAR
