BEGIN:VCALENDAR
VERSION:2.0
PRODID:-//PYVOBJECT//NONSGML Version 1//EN
BEGIN:VEVENT
UID:22083:3063
DTSTART:20150606T120000
DTEND:20150606T000000
DESCRIPTION:\n	Einladung zu unserem Sommerfest!\n	Ab 12 Uhr\n	Bei schlechte
 r Witterung feiern wir in unserem Zelt!\n
DTSTAMP:20260424T221337Z
SUMMARY:Sommerfest
END:VEVENT
END:VCALENDAR
